BEGIN:VCALENDAR
VERSION:2.0
PRODID:-//pretix//pretix.eu//
BEGIN:VTIMEZONE
TZID:Europe/Berlin
BEGIN:STANDARD
DTSTART:20001029T040000
RRULE:FREQ=YEARLY;BYDAY=-1SU;BYMONTH=10
TZNAME:CET
TZOFFSETFROM:+0200
TZOFFSETTO:+0100
END:STANDARD
BEGIN:DAYLIGHT
DTSTART:20000326T030000
RRULE:FREQ=YEARLY;BYDAY=-1SU;BYMONTH=3
TZNAME:CEST
TZOFFSETFROM:+0100
TZOFFSETTO:+0200
END:DAYLIGHT
END:VTIMEZONE
BEGIN:VEVENT
UID:pretix-merkur-wahlforum-0@tickets.merkur.de
DTSTART;TZID=Europe/Berlin:20260210T183000
DTEND;TZID=Europe/Berlin:20260210T193000
DESCRIPTION:Tickets: https://tickets.merkur.de/wahlforum/\nEinlass: 10.02.2
 026 18:00\nVeranstalter: Münchener Zeitungs-Verlag GmbH & Co.KG
DTSTAMP:20260424T025812Z
LOCATION:Alte Rotation\, Pressehaus - Münchner Merkur / tz\, Paul-Heyse-St
 raße 2 - 4\, 80336 München
SUMMARY:WahlFORUM zur Kommunalwahl 2026
END:VEVENT
END:VCALENDAR
